BEGIN:VCALENDAR
VERSION:2.0
PRODID:-//RMLScentral - ECPv5.4.0.2//NONSGML v1.0//EN
CALSCALE:GREGORIAN
METHOD:PUBLISH
X-WR-CALNAME:RMLScentral
X-ORIGINAL-URL:https://rmlscentral.com/v1
X-WR-CALDESC:Events for RMLScentral
BEGIN:VTIMEZONE
TZID:America/Los_Angeles
BEGIN:DAYLIGHT
TZOFFSETFROM:-0800
TZOFFSETTO:-0700
TZNAME:PDT
DTSTART:20200308T100000
END:DAYLIGHT
BEGIN:STANDARD
TZOFFSETFROM:-0700
TZOFFSETTO:-0800
TZNAME:PST
DTSTART:20201101T090000
END:STANDARD
END:VTIMEZONE
BEGIN:VEVENT
DTSTART;TZID=America/Los_Angeles:20201014T090000
DTEND;TZID=America/Los_Angeles:20201014T103000
DTSTAMP:20260423T180103
CREATED:20201005T151226Z
LAST-MODIFIED:20201005T151226Z
UID:12898-1602666000-1602671400@rmlscentral.com
SUMMARY:Webinar: Oregon ADU Zoning Updates - HB2001 & Portland Residential Infill Project
DESCRIPTION:Be at the forefront on code changes that affect ADUs in Portland and across Oregon. \nJoin this special 1.5-hour ADU update webinar providing the most up-to-date ADU zoning changes for Oregon housing markets. \nWednesday\, Oct. 14\, 2020\n9:00 AM – 10:30 AM  |  1.5 CEs\nLive Webinar\n$10-15 (no cost for ADU Specialists)  \nChanges under both the Oregon House Bill 2001 and Portland’s Residential Infill Project once again demonstrates Oregon’s leadership on urban density and ADUs. This training will cover both of these legislative adjustments and provide real estate and building industry professionals with the info they need on how zoning changes impact their development entitlements. \nQ&A with Special Guests\nThe webinar will conclude with a 30-min Q&A session that will feature the primary webinar presenter\, Kol Peterson\, and the leading authors at the source of the two regulations: \n\nMorgan Tracy\, project manager for Portland’s Residential Infill Project\nEthan Stuckmayer\, Senior Planner for Oregon’s Department of Land Conservation and Development\n\nRegister to attend.
URL:https://rmlscentral.com/v1/event/webinar-oregon-adu-zoning-updates-hb2001-portland-residential-infill-project/
LOCATION:Webinar
CATEGORIES:Professional Development Events
ATTACH;FMTTYPE=image/jpeg:https://rmlscentral.com/v1/wp-content/uploads/2020/10/EarthAdvantage.jpg
ORGANIZER;CN="Earth%20Advantage%C2%AE":MAILTO:hkendall@earthadvantage.org
END:VEVENT
END:VCALENDAR