BEGIN:VCALENDAR
VERSION:2.0
PRODID:-//RMLScentral - ECPv5.4.0.2//NONSGML v1.0//EN
CALSCALE:GREGORIAN
METHOD:PUBLISH
X-WR-CALNAME:RMLScentral
X-ORIGINAL-URL:https://rmlscentral.com/v1
X-WR-CALDESC:Events for RMLScentral
BEGIN:VTIMEZONE
TZID:America/Los_Angeles
BEGIN:DAYLIGHT
TZOFFSETFROM:-0800
TZOFFSETTO:-0700
TZNAME:PDT
DTSTART:20200308T100000
END:DAYLIGHT
BEGIN:STANDARD
TZOFFSETFROM:-0700
TZOFFSETTO:-0800
TZNAME:PST
DTSTART:20201101T090000
END:STANDARD
END:VTIMEZONE
BEGIN:VEVENT
DTSTART;TZID=America/Los_Angeles:20201029T083000
DTEND;TZID=America/Los_Angeles:20201029T103000
DTSTAMP:20260420T173123
CREATED:20200922T171208Z
LAST-MODIFIED:20201005T150015Z
UID:12856-1603960200-1603967400@rmlscentral.com
SUMMARY:Webinar: How Builders Are Making it Easy for Agents to Sell & Show New Homes
DESCRIPTION:NewHomeSource Professional provides members the most new construction listings to show their buyers with over 130\,000 homes across the nation – All for FREE! \nHow Builders Are Making it Easy for Agents to Sell & Show New Homes \nLearn How New Homes Can Meet the Needs of Your Buyers Resulting In More Closings! \n\n\n\nSolve the Inventory Shortage: Many builders have Quick Move-In Homes available today\, next week\, and next month.\nNew Homes Are in Demand: Online searches for new homes are 13% above last year’s record level.\nNew Homes Are Easy to Show: Via virtual tours on FaceTime\, Skype or Zoom – or by in-person tours by appointment.\nPartner With Builders: NHS Pro is helping make it easier for agents to register their buyer and to schedule virtual tours.\n\n\n\nPlease register for How Builders Are Making it Easy for Agents to Sell & Show New Homes on Oct 29\, 2020 8:00 AM PST at: https://attendee.gotowebinar.com/register/916420261702326030
URL:https://rmlscentral.com/v1/event/webinar-how-builders-are-making-it-easy-for-agents-to-sell-show-new-homes-2/
LOCATION:Webinar
CATEGORIES:Professional Development Events
ORGANIZER;CN="NewHomeSource%20Professional":MAILTO:hfearn@thebdx.com
END:VEVENT
BEGIN:VEVENT
DTSTART;TZID=America/Los_Angeles:20201029T093000
DTEND;TZID=America/Los_Angeles:20201029T140000
DTSTAMP:20260420T173123
CREATED:20201019T230711Z
LAST-MODIFIED:20201019T230711Z
UID:12934-1603963800-1603980000@rmlscentral.com
SUMMARY:Webinar: Training for Paragon and CRS Data Tax Suite
DESCRIPTION:Join the folks at Paragon in a training webinar to learn the basics and beyond for both Paragon and CRS Data’s MLS Tax Suite. These products and services encourage end user customizations so the data and services can be configured just the way you like it…YOUR way. Don’t miss this opportunity to learn and optimize both systems. \nMultiple sessions are available throughout the remainder of October. \nOctober 29 (two options): 9:30am-10:30am PDT\, 1:00pm-2:00pm \nhttps://attendee.gototraining.com/rt/5490986768202072065
URL:https://rmlscentral.com/v1/event/webinar-training-for-paragon-and-crs-data-tax-suite-4/
LOCATION:Webinar
CATEGORIES:Professional Development Events
END:VEVENT
END:VCALENDAR