BEGIN:VCALENDAR
VERSION:2.0
PRODID:-//RMLScentral - ECPv5.4.0.2//NONSGML v1.0//EN
CALSCALE:GREGORIAN
METHOD:PUBLISH
X-WR-CALNAME:RMLScentral
X-ORIGINAL-URL:https://rmlscentral.com/v1
X-WR-CALDESC:Events for RMLScentral
BEGIN:VTIMEZONE
TZID:America/Los_Angeles
BEGIN:DAYLIGHT
TZOFFSETFROM:-0800
TZOFFSETTO:-0700
TZNAME:PDT
DTSTART:20200308T100000
END:DAYLIGHT
BEGIN:STANDARD
TZOFFSETFROM:-0700
TZOFFSETTO:-0800
TZNAME:PST
DTSTART:20201101T090000
END:STANDARD
END:VTIMEZONE
BEGIN:VEVENT
DTSTART;TZID=America/Los_Angeles:20201119T100000
DTEND;TZID=America/Los_Angeles:20201119T110000
DTSTAMP:20260420T093942
CREATED:20201022T152212Z
LAST-MODIFIED:20201022T152212Z
UID:12947-1605780000-1605783600@rmlscentral.com
SUMMARY:Webinar: Cloud CMA: Virtual and Automated CMAs Made Easy
DESCRIPTION:Introducing Cloud CMA Live! \nNow you can virtually present an interactive CMA through Zoom or Skye\, explain “what if” scenarios by adding or removing comps on the fly \, and feature videos and links in a modern way in your reports. \nBut that is just one new feature of Cloud CMA that will be shown in the upcoming webinar\, Cloud CMA: Virtual and Automated CMAs Made Easy\, exclusively for LVR members on either November 19th\, December 3rd\, or January 7th at 10am PT. And the best part is they will show you how you can get these tools FREE until February 2021! \nJoin this webinar to learn how to: \n\nCreate modern\, customizable CMA reports that you can deliver printed or through email.\nUse days on market data to help support your suggested list price.\nKeep your branding front and center to stay-top-of-mind.\nAutomate your business so you can spend more time with clients.\nAnd more!\n\nDon’t miss the opportunity to get the most out of Cloud CMA so you can start winning more business today!
URL:https://rmlscentral.com/v1/event/webinar-cloud-cma-virtual-and-automated-cmas-made-easy/
LOCATION:Webinar
CATEGORIES:Professional Development Events
ORGANIZER;CN="Cloud%20CMA":MAILTO:damon@wrstudios.com
END:VEVENT
BEGIN:VEVENT
DTSTART;TZID=America/Los_Angeles:20201119T110000
DTEND;TZID=America/Los_Angeles:20201119T120000
DTSTAMP:20260420T093942
CREATED:20201116T192707Z
LAST-MODIFIED:20201116T192707Z
UID:13030-1605783600-1605787200@rmlscentral.com
SUMMARY:Webinar: Leverage the Homes.com - MLS Partnership to connect with active buyers
DESCRIPTION:Homes.com displays the most up to date information about your listings to the millions of monthly visitors to our site. Make sure those interested buyers are also seeing the most current information about you and your brokerage by reviewing your Homes.com Profile. \nJoin Homes.com for this 30-minute webinar to learn about your listing display\, how to update your personal information\, and leverage the cloud based Homes.com Lead Management System to connect with more buyers. \nHomes.com Lead Management System includes:\n• A Lead and Contact Manager App\n• Email Marketing App\n• Monthly Newsletter Service \nTake advantage of all the tools available to you from Homes.com.\nRegister for this webinar TODAY!
URL:https://rmlscentral.com/v1/event/webinar-leverage-the-homes-com-mls-partnership-to-connect-with-active-buyers/
LOCATION:Webinar
CATEGORIES:Professional Development Events
END:VEVENT
END:VCALENDAR