BEGIN:VCALENDAR
VERSION:2.0
PRODID:-//RMLScentral - ECPv5.4.0.2//NONSGML v1.0//EN
CALSCALE:GREGORIAN
METHOD:PUBLISH
X-WR-CALNAME:RMLScentral
X-ORIGINAL-URL:https://rmlscentral.com/v1
X-WR-CALDESC:Events for RMLScentral
BEGIN:VTIMEZONE
TZID:America/Los_Angeles
BEGIN:DAYLIGHT
TZOFFSETFROM:-0800
TZOFFSETTO:-0700
TZNAME:PDT
DTSTART:20200308T100000
END:DAYLIGHT
BEGIN:STANDARD
TZOFFSETFROM:-0700
TZOFFSETTO:-0800
TZNAME:PST
DTSTART:20201101T090000
END:STANDARD
END:VTIMEZONE
BEGIN:VEVENT
DTSTART;TZID=America/Los_Angeles:20201202T120000
DTEND;TZID=America/Los_Angeles:20201202T130000
DTSTAMP:20260420T081304
CREATED:20201123T210416Z
LAST-MODIFIED:20201123T210451Z
UID:13046-1606910400-1606914000@rmlscentral.com
SUMMARY:Webinar: Work Remotely -Virtual Tools To Keep Clients Safe And In The Market With New Home Source Professional
DESCRIPTION:Close out 2020 with one of New Home Source Professional’s fantastic trainings showing you how to incorporate new build sales into your business. They are offering three different webinars in December.
URL:https://rmlscentral.com/v1/event/webinar-work-remotely-virtual-tools-to-keep-clients-safe-and-in-the-market-with-new-home-source-professional-4/
LOCATION:Webinar
CATEGORIES:Professional Development Events
ORGANIZER;CN="NewHomeSource%20Professional":MAILTO:hfearn@thebdx.com
END:VEVENT
END:VCALENDAR