BEGIN:VCALENDAR
VERSION:2.0
PRODID:-//RMLScentral - ECPv5.4.0.2//NONSGML v1.0//EN
CALSCALE:GREGORIAN
METHOD:PUBLISH
X-WR-CALNAME:RMLScentral
X-ORIGINAL-URL:https://rmlscentral.com/v1
X-WR-CALDESC:Events for RMLScentral
BEGIN:VTIMEZONE
TZID:America/Los_Angeles
BEGIN:DAYLIGHT
TZOFFSETFROM:-0800
TZOFFSETTO:-0700
TZNAME:PDT
DTSTART:20210314T100000
END:DAYLIGHT
BEGIN:STANDARD
TZOFFSETFROM:-0700
TZOFFSETTO:-0800
TZNAME:PST
DTSTART:20211107T090000
END:STANDARD
END:VTIMEZONE
BEGIN:VEVENT
DTSTART;TZID=America/Los_Angeles:20210323T113000
DTEND;TZID=America/Los_Angeles:20210323T120000
DTSTAMP:20260420T031958
CREATED:20210225T161806Z
LAST-MODIFIED:20210225T161806Z
UID:13135-1616499000-1616500800@rmlscentral.com
SUMMARY:Webinar: Homesnap - Prospecting For Seller Leads - RMLS
DESCRIPTION:Advanced Webinar – Prospecting For Seller Leads – RMLS\nTuesday\, March 23 11:30 AM – 12:00 PM PDT\nhttps://attendee.gotowebinar.com/register/8358052400625820429 \nTake a deep dive into Homesnap Pro’s robust features and learn how to use Property Heatmaps to find your next listing\, as well as how to walk pro and create videos using Homesnap Stories. This is a live and interactive training hosted by your Industry Education Partner\, Evelyn Pulido. This session includes: \n\nProperty Heat maps – prospecting and owner info\nUsing our net sheet calculator\nSell Speed\nSaving homeowner profiles\n\nPlease make sure that you have downloaded the app from the App Store (iPhone) or Play Store (Android) prior to this webinar. You will have a few options Homesnap and Homesnap real estate & rentals\, Homesnap Pro they are the same app. You may choose the first option (we only have one app-it’s all the same even though you’ll see several options) it is titled “House finder by Homesnap.” Also\, It is helpful to have a fully charged mobile device and/or iPad or tablet.
URL:https://rmlscentral.com/v1/event/webinar-homesnap-prospecting-for-seller-leads-rmls/
LOCATION:Webinar
CATEGORIES:Professional Development Events
ORGANIZER;CN="Homesnap":MAILTO:ltewksbury@homesnap.com
END:VEVENT
END:VCALENDAR