BEGIN:VCALENDAR
VERSION:2.0
PRODID:-//RMLScentral - ECPv5.4.0.2//NONSGML v1.0//EN
CALSCALE:GREGORIAN
METHOD:PUBLISH
X-WR-CALNAME:RMLScentral
X-ORIGINAL-URL:https://rmlscentral.com/v1
X-WR-CALDESC:Events for RMLScentral
BEGIN:VTIMEZONE
TZID:America/Los_Angeles
BEGIN:DAYLIGHT
TZOFFSETFROM:-0800
TZOFFSETTO:-0700
TZNAME:PDT
DTSTART:20180311T100000
END:DAYLIGHT
BEGIN:STANDARD
TZOFFSETFROM:-0700
TZOFFSETTO:-0800
TZNAME:PST
DTSTART:20181104T090000
END:STANDARD
END:VTIMEZONE
BEGIN:VEVENT
DTSTART;VALUE=DATE:20180316
DTEND;VALUE=DATE:20180317
DTSTAMP:20260425T201457
CREATED:20180212T230324Z
LAST-MODIFIED:20180212T232913Z
UID:10642-1521158400-1521244799@rmlscentral.com
SUMMARY:2018 RMLS™ Education Summit and Trade Fair (Portland)
DESCRIPTION:Can you survive the challenge of a sweltering real estate market? The RMLS™ Education Summit and Trade Fair will take place from 8:30 am to 4:00 pm on Friday\, March 16\, 2018 at the DoubleTree by Hilton Hotel in the heart of the Lloyd District in Portland\, Oregon. \nRMLS™ is adding an exciting element to this year’s event: a nationally known keynote speaker! Attendees are encouraged to visit the trade show\, filled with vendors ready to help all RMLS™ subscribers take their business further. Networking opportunities are assured\, as are opportunities to win a prize. Classes will offer opportunities for real estate professionals to further their technical experience and knowledge of the industry. \nThanks to our 2018 annual sponsors! \nDiamond: \n \nGold: \n \nKeynote Speaker Sponsor: \nRead more and register for the 2018 RMLS™ Education Summit and Trade Fair.
URL:https://rmlscentral.com/v1/event/2018-rmls-education-summit-and-trade-fair-portland/
LOCATION:DoubleTree Portland\, 1000 NE Multnomah Street\, Portland\, OR\, 97232\, United States
CATEGORIES:Professional Development Events,RMLS™ Events
ORGANIZER;CN="RMLS%E2%84%A2%20Portland":MAILTO:training@rmls.com
END:VEVENT
END:VCALENDAR