BEGIN:VCALENDAR
VERSION:2.0
PRODID:-//RMLScentral - ECPv5.4.0.2//NONSGML v1.0//EN
CALSCALE:GREGORIAN
METHOD:PUBLISH
X-WR-CALNAME:RMLScentral
X-ORIGINAL-URL:https://rmlscentral.com/v1
X-WR-CALDESC:Events for RMLScentral
BEGIN:VTIMEZONE
TZID:America/Los_Angeles
BEGIN:DAYLIGHT
TZOFFSETFROM:-0800
TZOFFSETTO:-0700
TZNAME:PDT
DTSTART:20180311T100000
END:DAYLIGHT
BEGIN:STANDARD
TZOFFSETFROM:-0700
TZOFFSETTO:-0800
TZNAME:PST
DTSTART:20181104T090000
END:STANDARD
END:VTIMEZONE
BEGIN:VEVENT
DTSTART;TZID=America/Los_Angeles:20181016T090000
DTEND;TZID=America/Los_Angeles:20181016T120000
DTSTAMP:20260425T083823
CREATED:20180424T184420Z
LAST-MODIFIED:20181008T191706Z
UID:10814-1539680400-1539691200@rmlscentral.com
SUMMARY:Broker Education Series (Salem)
DESCRIPTION:RMLS™ is on the road to Salem with the Broker Education Series! Cheryl Clunes will present Negotiating the Exclusive Buyer Service Agreement from 9:00am-12:00pm on Tuesday\, October 16th in Salem. This class is free\, worth 3 CE credits in Oregon\, and open to all. Seating is limited\, so register today! \nRead more and register for the Broker Education Series event in Salem on October 16th.
URL:https://rmlscentral.com/v1/event/broker-education-series-salem-3/
CATEGORIES:RMLS™ Events
ORGANIZER;CN="RMLS%E2%84%A2%20Salem":MAILTO:training@rmls.com
END:VEVENT
END:VCALENDAR