BEGIN:VCALENDAR
VERSION:2.0
PRODID:-//RMLScentral - ECPv5.4.0.2//NONSGML v1.0//EN
CALSCALE:GREGORIAN
METHOD:PUBLISH
X-WR-CALNAME:RMLScentral
X-ORIGINAL-URL:https://rmlscentral.com/v1
X-WR-CALDESC:Events for RMLScentral
BEGIN:VTIMEZONE
TZID:America/Los_Angeles
BEGIN:DAYLIGHT
TZOFFSETFROM:-0800
TZOFFSETTO:-0700
TZNAME:PDT
DTSTART:20180311T100000
END:DAYLIGHT
BEGIN:STANDARD
TZOFFSETFROM:-0700
TZOFFSETTO:-0800
TZNAME:PST
DTSTART:20181104T090000
END:STANDARD
END:VTIMEZONE
BEGIN:VEVENT
DTSTART;TZID=America/Los_Angeles:20181114T080000
DTEND;TZID=America/Los_Angeles:20181114T170000
DTSTAMP:20260425T063643
CREATED:20181025T002831Z
LAST-MODIFIED:20181106T180504Z
UID:11240-1542182400-1542214800@rmlscentral.com
SUMMARY:Taking Back Control of the Appraisal Process (Vancouver)
DESCRIPTION:Update (November 6): Registration for both classes is now full and registration is closed. \nRMLS™ invites all interested real estate professionals to Taking Back Control of the Appraisal Process. Scott Hamling will speak to REALTORS® about understanding the appraisal process and how the Dodd/Frank Amendment affects a real estate business. He will provide useful tips REALTORS® can implement to help obtain the highest appraised value on listings. Scott will also cover how appraisers develop adjustment amounts and how to analyze appraisals. \nThis class is worth up to 4 CE in both Oregon and Washington\, and two sessions will be held on this date. This event is free. \nRead more and register for Taking Back Control of the Appraisal Process from 8 AM-Noon. UPDATE (November 2): The morning session is now full and registration is closed. \nRead more and register for Taking Back Control of the Appraisal Process from 1 PM-5 PM. UPDATE (November 6): The afternoon session is now full and registration is closed.
URL:https://rmlscentral.com/v1/event/taking-back-control-of-the-appraisal-process-vancouver/
LOCATION:Columbia Credit Union Operations Building\, 200 SE Park Plaza Drive\, Vancouver\, WA\, 98684\, United States
CATEGORIES:Professional Development Events,RMLS™ Events
ORGANIZER;CN="RMLS%E2%84%A2%20Vancouver":MAILTO:training@rmls.com
END:VEVENT
END:VCALENDAR