BEGIN:VCALENDAR
VERSION:2.0
PRODID:-//RMLScentral - ECPv5.4.0.2//NONSGML v1.0//EN
CALSCALE:GREGORIAN
METHOD:PUBLISH
X-WR-CALNAME:RMLScentral
X-ORIGINAL-URL:https://rmlscentral.com/v1
X-WR-CALDESC:Events for RMLScentral
BEGIN:VTIMEZONE
TZID:America/Los_Angeles
BEGIN:DAYLIGHT
TZOFFSETFROM:-0800
TZOFFSETTO:-0700
TZNAME:PDT
DTSTART:20190310T100000
END:DAYLIGHT
BEGIN:STANDARD
TZOFFSETFROM:-0700
TZOFFSETTO:-0800
TZNAME:PST
DTSTART:20191103T090000
END:STANDARD
END:VTIMEZONE
BEGIN:VEVENT
DTSTART;TZID=America/Los_Angeles:20190604T090000
DTEND;TZID=America/Los_Angeles:20190604T120000
DTSTAMP:20260424T205809
CREATED:20190408T183535Z
LAST-MODIFIED:20190516T203749Z
UID:11630-1559638800-1559649600@rmlscentral.com
SUMMARY:Broker Education Series (Lincoln City)
DESCRIPTION:RMLS™ invites all interested REALTORS® to its upcoming Broker Education Series (BES) event\, happening in Lincoln City. RMLS™ Trainer Ryan Jacobsen will lead a three-hour course about Homesnap and Remine. Attendees will get an in-depth view into these two tools and how to use them to improve client relationships\, get details about properties\, and farm for leads. Attendees may grow their market expertise through both of these new tools\, so register today! \nThis class is free and attendees may earn up to 3 CE in Oregon. Register for Remine/Homesnap BES Event in Lincoln City.
URL:https://rmlscentral.com/v1/event/broker-education-series-lincoln-city-2/
LOCATION:Chinook Winds Casino\, 1777 NW 44th St\, Lincoln City\, OR\, United States
CATEGORIES:Professional Development Events,RMLS™ Events
ORGANIZER;CN="RMLS%E2%84%A2%20Portland":MAILTO:training@rmls.com
END:VEVENT
END:VCALENDAR