BEGIN:VCALENDAR
VERSION:2.0
PRODID:-//RMLScentral - ECPv5.4.0.2//NONSGML v1.0//EN
CALSCALE:GREGORIAN
METHOD:PUBLISH
X-WR-CALNAME:RMLScentral
X-ORIGINAL-URL:https://rmlscentral.com/v1
X-WR-CALDESC:Events for RMLScentral
BEGIN:VTIMEZONE
TZID:America/Los_Angeles
BEGIN:DAYLIGHT
TZOFFSETFROM:-0800
TZOFFSETTO:-0700
TZNAME:PDT
DTSTART:20190310T100000
END:DAYLIGHT
BEGIN:STANDARD
TZOFFSETFROM:-0700
TZOFFSETTO:-0800
TZNAME:PST
DTSTART:20191103T090000
END:STANDARD
END:VTIMEZONE
BEGIN:VEVENT
DTSTART;TZID=America/Los_Angeles:20190619T090000
DTEND;TZID=America/Los_Angeles:20190619T100000
DTSTAMP:20260424T205857
CREATED:20190327T201444Z
LAST-MODIFIED:20190507T174325Z
UID:11605-1560934800-1560938400@rmlscentral.com
SUMMARY:New Home Source Professional Training (Webinar)
DESCRIPTION:RMLS™ subscribers are invited to join a webinar and learn more about NewHomeSource Professional! This tool\, available for free through RMLSweb\, gives subscribers access to 11\,000 communities and 100\,000 homes by over 1\,000 builders nationally; a free branded consumer-facing website; and valuable insight into how to sell new construction. \nRegister for NewHomeSource Professional training webinar on Wednesday\, June 19th.
URL:https://rmlscentral.com/v1/event/new-home-source-professional-training-webinar-12/
LOCATION:Webinar
CATEGORIES:RMLS™ Events
ATTACH;FMTTYPE=image/jpeg:https://rmlscentral.com/v1/wp-content/uploads/2013/08/NewHomeSourceLogo.jpg
ORGANIZER;CN="NewHomeSource%20Professional":MAILTO:hfearn@thebdx.com
END:VEVENT
END:VCALENDAR