BEGIN:VCALENDAR
VERSION:2.0
PRODID:-//RMLScentral - ECPv5.4.0.2//NONSGML v1.0//EN
CALSCALE:GREGORIAN
METHOD:PUBLISH
X-WR-CALNAME:RMLScentral
X-ORIGINAL-URL:https://rmlscentral.com/v1
X-WR-CALDESC:Events for RMLScentral
BEGIN:VTIMEZONE
TZID:America/Los_Angeles
BEGIN:DAYLIGHT
TZOFFSETFROM:-0800
TZOFFSETTO:-0700
TZNAME:PDT
DTSTART:20190310T100000
END:DAYLIGHT
BEGIN:STANDARD
TZOFFSETFROM:-0700
TZOFFSETTO:-0800
TZNAME:PST
DTSTART:20191103T090000
END:STANDARD
END:VTIMEZONE
BEGIN:VEVENT
DTSTART;TZID=America/Los_Angeles:20190807T090000
DTEND;TZID=America/Los_Angeles:20190807T100000
DTSTAMP:20260424T162211
CREATED:20190801T002614Z
LAST-MODIFIED:20190801T002614Z
UID:12026-1565168400-1565172000@rmlscentral.com
SUMMARY:Increase Your Leads and Closings with New Home Source Professional (Webinar)
DESCRIPTION:RMLS™ subscribers are invited to join a webinar and learn more about NewHomeSource Professional! This tool\, available for free through RMLSweb\, gives subscribers access to 11\,000 communities and 100\,000 homes by over 1\,000 builders nationally; a free branded consumer-facing website; and valuable insight into how to sell new construction. Attendees will learn how to create an account\, how to send an agent-branded capture page (with 120\,000 new homes on it)\, and how to post new construction homes directly to social media and keep all the captured leads…for free. \nRegister for Increase Your Leads and Closings with New Home Source Professional webinar.
URL:https://rmlscentral.com/v1/event/increase-your-leads-and-closings-with-new-home-source-professional-webinar/
LOCATION:Webinar
CATEGORIES:RMLS™ Events
ORGANIZER;CN="NewHomeSource%20Professional":MAILTO:hfearn@thebdx.com
END:VEVENT
END:VCALENDAR