BEGIN:VCALENDAR
VERSION:2.0
PRODID:-//RMLScentral - ECPv5.4.0.2//NONSGML v1.0//EN
CALSCALE:GREGORIAN
METHOD:PUBLISH
X-WR-CALNAME:RMLScentral
X-ORIGINAL-URL:https://rmlscentral.com/v1
X-WR-CALDESC:Events for RMLScentral
BEGIN:VTIMEZONE
TZID:America/Los_Angeles
BEGIN:DAYLIGHT
TZOFFSETFROM:-0800
TZOFFSETTO:-0700
TZNAME:PDT
DTSTART:20190310T100000
END:DAYLIGHT
BEGIN:STANDARD
TZOFFSETFROM:-0700
TZOFFSETTO:-0800
TZNAME:PST
DTSTART:20191103T090000
END:STANDARD
END:VTIMEZONE
BEGIN:VEVENT
DTSTART;TZID=America/Los_Angeles:20190815T090000
DTEND;TZID=America/Los_Angeles:20190815T153000
DTSTAMP:20260424T162335
CREATED:20190725T231859Z
LAST-MODIFIED:20190725T231859Z
UID:11998-1565859600-1565883000@rmlscentral.com
SUMMARY:Realtor.com Professional Search Training (Lane County)
DESCRIPTION:Find℠ will soon be Realtor.com Professional Search! Realtor.com will hold in-person trainings or RMLS™ subscribers in Portland\, Vancouver\, and Eugene to show subscribers how to use this valuable tool\, easily accessible through RMLSweb. Realtor.com Professional Search \nIn each one-hour session\, attendees will learn how to access and navigate Realtor.com Professional Search\, how to conduct and utilize advanced searches\, how to quickly target properties for clients\, and how to pull extensive community and demographic information. Trainers will walk through map overlay options\, commute time calculators\, and other tools that will help RMLS™ subscribers improve their productivity and service to clients. \nRegister for Realtor.com Professional Search Training in Lane County.
URL:https://rmlscentral.com/v1/event/realtor-com-professional-search-training-lane-county/
LOCATION:RMLS™ Eugene\, 2139 Centennial Plaza\, Eugene\, OR\, 97401\, United States
CATEGORIES:RMLS™ Events
ATTACH;FMTTYPE=image/jpeg:https://rmlscentral.com/v1/wp-content/uploads/2019/07/Realtordotcom-Professional-Search.jpg
ORGANIZER;CN="RMLS%E2%84%A2%20Training":MAILTO:training@rmls.com
END:VEVENT
END:VCALENDAR