BEGIN:VCALENDAR
VERSION:2.0
PRODID:-//RMLScentral - ECPv5.4.0.2//NONSGML v1.0//EN
CALSCALE:GREGORIAN
METHOD:PUBLISH
X-WR-CALNAME:RMLScentral
X-ORIGINAL-URL:https://rmlscentral.com/v1
X-WR-CALDESC:Events for RMLScentral
BEGIN:VTIMEZONE
TZID:America/Los_Angeles
BEGIN:DAYLIGHT
TZOFFSETFROM:-0800
TZOFFSETTO:-0700
TZNAME:PDT
DTSTART:20190310T100000
END:DAYLIGHT
BEGIN:STANDARD
TZOFFSETFROM:-0700
TZOFFSETTO:-0800
TZNAME:PST
DTSTART:20191103T090000
END:STANDARD
END:VTIMEZONE
BEGIN:VEVENT
DTSTART;TZID=America/Los_Angeles:20191030T090000
DTEND;TZID=America/Los_Angeles:20191030T100000
DTSTAMP:20260424T114610
CREATED:20190926T183509Z
LAST-MODIFIED:20190926T183509Z
UID:12148-1572426000-1572429600@rmlscentral.com
SUMMARY:Earn Free Seller and Buyer Leads with New Home Source Professional (Webinar)
DESCRIPTION:RMLS™ subscribers are invited to join a webinar and learn more about NewHomeSource Professional! Attendees will learn how to activate a private account\, earn seller and buyer leads via an agent-branded capture page (with 120\,000 new homes on it)\, and how to post new construction homes directly to social media accounts and keep the leads. This tool is free for RMLS™ subscribers! \nRegister for Earn Free Seller and Buyer Leads with New Home Source Professional webinar.
URL:https://rmlscentral.com/v1/event/earn-free-seller-and-buyer-leads-with-new-home-source-professional-webinar-2/
LOCATION:Webinar
CATEGORIES:RMLS™ Events
ATTACH;FMTTYPE=image/jpeg:https://rmlscentral.com/v1/wp-content/uploads/2013/08/NewHomeSourceLogo.jpg
ORGANIZER;CN="NewHomeSource%20Professional":MAILTO:hfearn@thebdx.com
END:VEVENT
BEGIN:VEVENT
DTSTART;TZID=America/Los_Angeles:20191030T100000
DTEND;TZID=America/Los_Angeles:20191030T110000
DTSTAMP:20260424T114610
CREATED:20191016T000714Z
LAST-MODIFIED:20191016T000714Z
UID:12224-1572429600-1572433200@rmlscentral.com
SUMMARY:Get Your Next Deal with the Cloud Agent Suite (Webinar)
DESCRIPTION:Join Cloud Agent Suite’s Senior Business Development Manager Damon Alton in an exclusive webinar for RMLS™ subscribers. Attendees can learn how to get the most out of Cloud Agent Suite to work smarter and generate more leads\, so you’ll always know where your next deal will come from. \nRead more or register for Get Your Next Deal with the Cloud Agent Suite. \nUse Cloud Agent Suite for free until the end of 2019! Offer expires November 30th.
URL:https://rmlscentral.com/v1/event/get-your-next-deal-with-the-cloud-agent-suite-webinar/
LOCATION:Webinar
CATEGORIES:RMLS™ Events
ORGANIZER;CN="Cloud%20CMA":MAILTO:damon@wrstudios.com
END:VEVENT
END:VCALENDAR