BEGIN:VCALENDAR
VERSION:2.0
PRODID:-//RMLScentral - ECPv5.4.0.2//NONSGML v1.0//EN
CALSCALE:GREGORIAN
METHOD:PUBLISH
X-WR-CALNAME:RMLScentral
X-ORIGINAL-URL:https://rmlscentral.com/v1
X-WR-CALDESC:Events for RMLScentral
BEGIN:VTIMEZONE
TZID:America/Los_Angeles
BEGIN:DAYLIGHT
TZOFFSETFROM:-0800
TZOFFSETTO:-0700
TZNAME:PDT
DTSTART:20200308T100000
END:DAYLIGHT
BEGIN:STANDARD
TZOFFSETFROM:-0700
TZOFFSETTO:-0800
TZNAME:PST
DTSTART:20201101T090000
END:STANDARD
END:VTIMEZONE
BEGIN:VEVENT
DTSTART;TZID=America/Los_Angeles:20200107T090000
DTEND;TZID=America/Los_Angeles:20200107T093000
DTSTAMP:20260424T085224
CREATED:20191220T195719Z
LAST-MODIFIED:20191220T195719Z
UID:12334-1578387600-1578389400@rmlscentral.com
SUMMARY:Earn Free Seller and Buyer Leads with New Home Source Professional (Webinar)
DESCRIPTION:RMLS™ subscribers are invited to join a webinar and learn more about NewHomeSource Professional! Attendees will learn how to activate a private account\, earn seller and buyer leads via an agent-branded capture page (with 120\,000 new homes on it)\, and how to post new construction homes directly to social media accounts and keep the leads. This tool is free for RMLS™ subscribers! \nRegister for Earn Free Seller and Buyer Leads with New Home Source Professional webinar.
URL:https://rmlscentral.com/v1/event/earn-free-seller-and-buyer-leads-with-new-home-source-professional-webinar-4/
LOCATION:Webinar
CATEGORIES:RMLS™ Events
ATTACH;FMTTYPE=image/jpeg:https://rmlscentral.com/v1/wp-content/uploads/2013/08/NewHomeSourceLogo.jpg
ORGANIZER;CN="NewHomeSource%20Professional":MAILTO:hfearn@thebdx.com
END:VEVENT
END:VCALENDAR