BEGIN:VCALENDAR
VERSION:2.0
PRODID:-//RMLScentral - ECPv5.4.0.2//NONSGML v1.0//EN
CALSCALE:GREGORIAN
METHOD:PUBLISH
X-WR-CALNAME:RMLScentral
X-ORIGINAL-URL:https://rmlscentral.com/v1
X-WR-CALDESC:Events for RMLScentral
BEGIN:VTIMEZONE
TZID:America/Los_Angeles
BEGIN:DAYLIGHT
TZOFFSETFROM:-0800
TZOFFSETTO:-0700
TZNAME:PDT
DTSTART:20200308T100000
END:DAYLIGHT
BEGIN:STANDARD
TZOFFSETFROM:-0700
TZOFFSETTO:-0800
TZNAME:PST
DTSTART:20201101T090000
END:STANDARD
END:VTIMEZONE
BEGIN:VEVENT
DTSTART;TZID=America/Los_Angeles:20200225T100000
DTEND;TZID=America/Los_Angeles:20200225T103000
DTSTAMP:20260424T070229
CREATED:20200122T192218Z
LAST-MODIFIED:20200122T192218Z
UID:12415-1582624800-1582626600@rmlscentral.com
SUMMARY:ShowingTime for the MLS ‘Quick-Start’ Training for RMLS™ Subscribers
DESCRIPTION:ShowingTime for the MLS is available 24/7 to all subscribers courtesy of RMLS™! Discover how you can use this showing appointment tool to save time\, generate more showings and help you sell your listings more efficiently. To get ready\, please join ShowingTime for a brief\, 30-minute online webinar where you’ll learn how to: \n\nUse the ‘Schedule a Showing’ link to request showings on other agents’ listings \nAdd showing instructions and determine the best settings for each of your listings to begin receiving online showing requests \nSet your notification preferences \nDownload and use the ShowingTime Mobile App to request and confirm appointments while on the go \nUse ShowingCart® to plan your buyer tours and add personal notes to your stops ShowingTime for the MLS can be quickly set up through the MLS. \n\nIf you have any questions\, please send an email to training@showingtime.com.\n\n\n\nRegister Today! Be sure to select the date and time that works best for you!
URL:https://rmlscentral.com/v1/event/showingtime-for-the-mls-quick-start-training-for-rmls-subscribers/
LOCATION:Webinar
CATEGORIES:RMLS™ Events
ATTACH;FMTTYPE=image/jpeg:https://rmlscentral.com/v1/wp-content/uploads/2018/01/ShowingTime-Logo.jpg
END:VEVENT
END:VCALENDAR