BEGIN:VCALENDAR
VERSION:2.0
PRODID:-//RMLScentral - ECPv5.4.0.2//NONSGML v1.0//EN
CALSCALE:GREGORIAN
METHOD:PUBLISH
X-WR-CALNAME:RMLScentral
X-ORIGINAL-URL:https://rmlscentral.com/v1
X-WR-CALDESC:Events for RMLScentral
BEGIN:VTIMEZONE
TZID:America/Los_Angeles
BEGIN:DAYLIGHT
TZOFFSETFROM:-0800
TZOFFSETTO:-0700
TZNAME:PDT
DTSTART:20200308T100000
END:DAYLIGHT
BEGIN:STANDARD
TZOFFSETFROM:-0700
TZOFFSETTO:-0800
TZNAME:PST
DTSTART:20201101T090000
END:STANDARD
END:VTIMEZONE
BEGIN:VEVENT
DTSTART;TZID=America/Los_Angeles:20200305T110000
DTEND;TZID=America/Los_Angeles:20200305T113000
DTSTAMP:20260424T053908
CREATED:20200228T164041Z
LAST-MODIFIED:20200228T164041Z
UID:12482-1583406000-1583407800@rmlscentral.com
SUMMARY:Free Leads and More with Homes.com (Webinar)
DESCRIPTION:RMLS™ subscribers: if you have listings\, then you may have leads waiting for you in your free Homes.com account. In cooperation with RMLS™\, Homes.com displays the most up-to-date information about your listings to millions of monthly visitors to their site. Make sure those interested buyers are also seeing information about you and your brokerage by reviewing your Homes.com profile. \nJoin Homes.com for a 30-minute webinar to learn about your listing display\, how to update your personal information\, and how to leverage the Homes.com lead management system to connect with more buyers. The Homes.com lead management system includes a lead and contact manager app\, email marketing\, and monthly newsletter service. \nTake advantage of all the tools available to you from Homes.com by registering for this webinar today.
URL:https://rmlscentral.com/v1/event/free-leads-and-more-with-homes-com-webinar-9/
LOCATION:Webinar
CATEGORIES:RMLS™ Events
ATTACH;FMTTYPE=image/jpeg:https://rmlscentral.com/v1/wp-content/uploads/2019/04/Homes.com-Logo.jpg
END:VEVENT
END:VCALENDAR