BEGIN:VCALENDAR
VERSION:2.0
PRODID:-//RMLScentral - ECPv5.4.0.2//NONSGML v1.0//EN
CALSCALE:GREGORIAN
METHOD:PUBLISH
X-WR-CALNAME:RMLScentral
X-ORIGINAL-URL:https://rmlscentral.com/v1
X-WR-CALDESC:Events for RMLScentral
BEGIN:VTIMEZONE
TZID:America/Los_Angeles
BEGIN:DAYLIGHT
TZOFFSETFROM:-0800
TZOFFSETTO:-0700
TZNAME:PDT
DTSTART:20200308T100000
END:DAYLIGHT
BEGIN:STANDARD
TZOFFSETFROM:-0700
TZOFFSETTO:-0800
TZNAME:PST
DTSTART:20201101T090000
END:STANDARD
END:VTIMEZONE
BEGIN:VEVENT
DTSTART;TZID=America/Los_Angeles:20201210T090000
DTEND;TZID=America/Los_Angeles:20201210T100000
DTSTAMP:20260423T154411
CREATED:20201112T210646Z
LAST-MODIFIED:20201112T210646Z
UID:13022-1607590800-1607594400@rmlscentral.com
SUMMARY:Webinar: Introduction to Paragon and CRS Data Tax Suite
DESCRIPTION:Join Paragon to learn the Basic’s and Beyond for both Paragon and CRS Data’s MLS Tax Suite. These products and services encourage end user customizations so its data and services just the way you like it …YOUR way. Don’t miss the opportunity to learn what you need to know to get started today. \nAfter registering you will receive a confirmation email containing information about joining the training. \nOne hour sessions run from 10am to 11am and 3pm to 4pm PST.
URL:https://rmlscentral.com/v1/event/webinar-introduction-to-paragon-and-crs-data-tax-suite-4/
LOCATION:Webinar
CATEGORIES:RMLS™ Events
END:VEVENT
END:VCALENDAR